BEGIN:VCALENDAR
VERSION:2.0
PRODID:-//HSDF Foundation - ECPv6.1.2.2//NONSGML v1.0//EN
CALSCALE:GREGORIAN
METHOD:PUBLISH
X-ORIGINAL-URL:https://hsdfoundation.org
X-WR-CALDESC:Events for HSDF Foundation
REFRESH-INTERVAL;VALUE=DURATION:PT1H
X-Robots-Tag:noindex
X-PUBLISHED-TTL:PT1H
BEGIN:VTIMEZONE
TZID:UTC
BEGIN:STANDARD
TZOFFSETFROM:+0000
TZOFFSETTO:+0000
TZNAME:UTC
DTSTART:20220101T000000
END:STANDARD
END:VTIMEZONE
BEGIN:VEVENT
DTSTART;VALUE=DATE:20220614
DTEND;VALUE=DATE:20220615
DTSTAMP:20260422T065745
CREATED:20200909T040221Z
LAST-MODIFIED:20210814T045455Z
UID:2055-1655164800-1655251199@hsdfoundation.org
SUMMARY:Help Charities Without Leaving Home
DESCRIPTION:I’ve done everything the Bible says — even the stuff that contradicts the other stuff! Our differences are only skin deep\, but our sames go down to the bone. And now\, in the spirit of the season: start shopping. And for every dollar of Krusty merchandise you buy\, I will be nice to a sick kid. For legal purposes\, sick kids may include hookers with a cold. And here I am using my own lungs like a sucker. What good is money if it can’t inspire terror in your fellow man? Homer no function beer well without.
URL:https://hsdfoundation.org/event/help-charities-without-leaving-home/
LOCATION:Winchester Mystery House\, San Jose\, 95128\, United States
CATEGORIES:Education,Vaccine
ATTACH;FMTTYPE=image/jpeg:https://hsdfoundation.org/wp-content/uploads/2020/09/vcn-post-2-min.jpg
ORGANIZER;CN="Barney%20Stinson":MAILTO:barney@legendary.com
END:VEVENT
BEGIN:VEVENT
DTSTART;VALUE=DATE:20220707
DTEND;VALUE=DATE:20220708
DTSTAMP:20260422T065745
CREATED:20200909T040228Z
LAST-MODIFIED:20210814T045847Z
UID:2061-1657152000-1657238399@hsdfoundation.org
SUMMARY:Help Charities Without Leaving Home
DESCRIPTION:Who’s that then? Shh! Knights\, I bid you welcome to your new home. Let us ride to Camelot! Ah\, now we see the violence inherent in the system! The Lady of the Lake\, her arm clad in the purest shimmering samite\, held aloft Excalibur from the bosom of the water\, signifying by divine providence that I\, Arthur\, was to carry Excalibur. That is why I am your king. Camelot!
URL:https://hsdfoundation.org/event/help-charities-without-leaving-home-2/
LOCATION:Bamboo Fresh\, Lahaina\, 96761\, United States
CATEGORIES:Education
ATTACH;FMTTYPE=image/jpeg:https://hsdfoundation.org/wp-content/uploads/2020/09/give16.jpg
END:VEVENT
BEGIN:VEVENT
DTSTART;TZID=UTC:20220721T153000
DTEND;TZID=UTC:20220721T153000
DTSTAMP:20260422T065745
CREATED:20200909T040219Z
LAST-MODIFIED:20210814T045745Z
UID:2052-1658417400-1658417400@hsdfoundation.org
SUMMARY:UK Will Have School Lesson
DESCRIPTION:Why do you think that she is a witch? He hasn’t got stuff all over him. Well\, I didn’t vote for you. A newt? Look\, my liege! I don’t want to talk to you no more\, you empty-headed animal food trough water! I fart in your general direction! Your mother was a hamster and your father smelt of elderberries! Now leave before I am forced to taunt you a second time!
URL:https://hsdfoundation.org/event/uk-will-have-school-lesson/
LOCATION:Krispy Kreme\, St. Louis\, 63129
CATEGORIES:Children,Vaccine
ATTACH;FMTTYPE=image/jpeg:https://hsdfoundation.org/wp-content/uploads/2020/09/vcn-post-4-min.jpg
END:VEVENT
BEGIN:VEVENT
DTSTART;TZID=UTC:20220909T120000
DTEND;TZID=UTC:20220909T120000
DTSTAMP:20260422T065745
CREATED:20200909T040226Z
LAST-MODIFIED:20210814T045726Z
UID:2058-1662724800-1662724800@hsdfoundation.org
SUMMARY:Provide Pure Water And Fresh Food For Syrian
DESCRIPTION:I have traced the Rebel spies to her. Now she is my only link to finding their secret base. What?! I care. So\, what do you think of her\, Han? The Force is strong with this one. I have you now. But with the blast shield down\, I can’t even see! How am I supposed to fight? Red Five standing by.
URL:https://hsdfoundation.org/event/provide-pure-water-and-fresh-food-for-syrian/
LOCATION:Musee D’Orsay\, Paris\, 75007\, France
CATEGORIES:Helping
ATTACH;FMTTYPE=image/jpeg:https://hsdfoundation.org/wp-content/uploads/2020/09/give-7.jpg
END:VEVENT
END:VCALENDAR